BEGIN:VCALENDAR
VERSION:2.0
PRODID:spatie/icalendar-generator
DESCRIPTION:Events from Memorial Quilters
X-WR-CALDESC:Events from Memorial Quilters
REFRESH-INTERVAL;VALUE=DURATION:PT1440M
X-PUBLISHED-TTL:PT1440M
BEGIN:VTIMEZONE
TZID:America/Chicago
BEGIN:STANDARD
DTSTART:20251102T020000Z
TZOFFSETFROM:-0500
TZOFFSETTO:-0600
END:STANDARD
BEGIN:DAYLIGHT
DTSTART:20260308T020000Z
TZOFFSETFROM:-0600
TZOFFSETTO:-0500
END:DAYLIGHT
END:VTIMEZONE
BEGIN:VTIMEZONE
TZID:UTC
BEGIN:STANDARD
DTSTART:20250726T091247Z
TZOFFSETFROM:+0000
TZOFFSETTO:+0000
END:STANDARD
END:VTIMEZONE
BEGIN:VEVENT
UID:23-6
DTSTAMP:20260422T091247Z
SUMMARY:Sew-In
LOCATION:Forest Lake Community Senior Center
ORGANIZER;CN=Linda Hoeschen:MAILTO:lindakhoeschen@gmail.com
DTSTART;TZID=America/Chicago:20251205T090000
DTEND;TZID=America/Chicago:20251207T200000
X-ALT-DESC;FMTTYPE=TEXT/HTML:<p>- $10 for the weekend</p>\n
CATEGORIES:General
URL;VALUE=URI:https://www.memorialquilters.org/mc-events/sew-in-3/
METHOD:PUBLISH
END:VEVENT
END:VCALENDAR