BEGIN:VCALENDAR
VERSION:2.0
PRODID:spatie/icalendar-generator
DESCRIPTION:Events from Memorial Quilters
X-WR-CALDESC:Events from Memorial Quilters
REFRESH-INTERVAL;VALUE=DURATION:PT1440M
X-PUBLISHED-TTL:PT1440M
BEGIN:VTIMEZONE
TZID:America/Chicago
BEGIN:DAYLIGHT
DTSTART:20250309T020000Z
TZOFFSETFROM:-0600
TZOFFSETTO:-0500
END:DAYLIGHT
BEGIN:STANDARD
DTSTART:20251102T020000Z
TZOFFSETFROM:-0500
TZOFFSETTO:-0600
END:STANDARD
BEGIN:DAYLIGHT
DTSTART:20260308T020000Z
TZOFFSETFROM:-0600
TZOFFSETTO:-0500
END:DAYLIGHT
END:VTIMEZONE
BEGIN:VTIMEZONE
TZID:UTC
BEGIN:STANDARD
DTSTART:20250723T125333Z
TZOFFSETFROM:+0000
TZOFFSETTO:+0000
END:STANDARD
END:VTIMEZONE
BEGIN:VEVENT
UID:25-8
DTSTAMP:20260419T125333Z
SUMMARY:Paducah
LOCATION:
ORGANIZER;CN=Jo Lee:MAILTO:jo@lee-databasics.com
DTSTART;TZID=America/Chicago;VALUE=DATE:20250908
DTEND;TZID=America/Chicago;VALUE=DATE:20250915
X-ALT-DESC;FMTTYPE=TEXT/HTML:Road Trip!
CATEGORIES:General
URL;VALUE=URI:https://www.memorialquilters.org/mc-events/paducah/
METHOD:PUBLISH
END:VEVENT
END:VCALENDAR